BEGIN:VCALENDAR
VERSION:2.0
PRODID:-//RIGHTHERE//CALENDARIZE IT V3.2//EN
BEGIN:VEVENT
UID:20345-events@www.thewhitefacelodge.com
DTSTART;VALUE=DATE:20260211
DTEND;VALUE=DATE:20260211
DTSTAMP:20260211T195040Z
SUMMARY:Sauna & Steam Room | The Spa | 9:00am – 5:00pm
RRULE:FREQ=WEEKLY;INTERVAL=1;BYMONTH=2,3,4,5,6,7,8,9,10,11,12;BYDAY=SU,TU,W
 E,TH,FR,SA;WKST=SU
URL:https://www.thewhitefacelodge.com/events/sauna-steam-room-the-spa-900am
 -500pm/
END:VEVENT
END:VCALENDAR